BEGIN:VCALENDAR
VERSION:2.0
PRODID:-//The Old Club - ECPv6.15.20//NONSGML v1.0//EN
CALSCALE:GREGORIAN
METHOD:PUBLISH
X-ORIGINAL-URL:https://www.theoldclub.com
X-WR-CALDESC:Events for The Old Club
REFRESH-INTERVAL;VALUE=DURATION:PT1H
X-Robots-Tag:noindex
X-PUBLISHED-TTL:PT1H
BEGIN:VTIMEZONE
TZID:America/Detroit
BEGIN:DAYLIGHT
TZOFFSETFROM:-0500
TZOFFSETTO:-0400
TZNAME:EDT
DTSTART:20210314T070000
END:DAYLIGHT
BEGIN:STANDARD
TZOFFSETFROM:-0400
TZOFFSETTO:-0500
TZNAME:EST
DTSTART:20211107T060000
END:STANDARD
BEGIN:DAYLIGHT
TZOFFSETFROM:-0500
TZOFFSETTO:-0400
TZNAME:EDT
DTSTART:20220313T070000
END:DAYLIGHT
BEGIN:STANDARD
TZOFFSETFROM:-0400
TZOFFSETTO:-0500
TZNAME:EST
DTSTART:20221106T060000
END:STANDARD
BEGIN:DAYLIGHT
TZOFFSETFROM:-0500
TZOFFSETTO:-0400
TZNAME:EDT
DTSTART:20230312T070000
END:DAYLIGHT
BEGIN:STANDARD
TZOFFSETFROM:-0400
TZOFFSETTO:-0500
TZNAME:EST
DTSTART:20231105T060000
END:STANDARD
END:VTIMEZONE
BEGIN:VEVENT
DTSTART;VALUE=DATE:20220610
DTEND;VALUE=DATE:20220613
DTSTAMP:20260424T042608
CREATED:20210114T195055Z
LAST-MODIFIED:20240514T153645Z
UID:10000194-1654819200-1655078399@www.theoldclub.com
SUMMARY:Weekend of Jazz
DESCRIPTION:We’re bringing the sultry sounds of the Dirty Dog Jazz Cafe to Harsens Island\, courtesy of Vice Commodore Brian and Emigh Litch.
URL:https://www.theoldclub.com/event/new-orleans-jazz-weekend/
ATTACH;FMTTYPE=image/jpeg:https://www.theoldclub.com/wp-content/uploads/2021/01/Old-Club-jazz.jpg
END:VEVENT
BEGIN:VEVENT
DTSTART;TZID=America/Detroit:20220610T100000
DTEND;TZID=America/Detroit:20220610T140000
DTSTAMP:20260424T042608
CREATED:20220204T201427Z
LAST-MODIFIED:20240514T152727Z
UID:10000258-1654855200-1654869600@www.theoldclub.com
SUMMARY:Harsens Island Cattails Fashion Show & Luncheon
DESCRIPTION:Our island’s own “Cattails” have raised hundreds of thousands of dollars over the years to help this community – and we’re honored to have them back at this wonderful event!
URL:https://www.theoldclub.com/event/harsens-island-cattails-fashion-show-luncheon/
ATTACH;FMTTYPE=image/jpeg:https://www.theoldclub.com/wp-content/uploads/2022/02/HarsensIsland-Cattails.jpg
END:VEVENT
BEGIN:VEVENT
DTSTART;TZID=America/Detroit:20220610T180000
DTEND;TZID=America/Detroit:20220610T210000
DTSTAMP:20260424T042608
CREATED:20220204T202012Z
LAST-MODIFIED:20240514T153428Z
UID:10000259-1654884000-1654894800@www.theoldclub.com
SUMMARY:Ron English Quintet
DESCRIPTION:We’re starting off Jazz Weekend with a bang on Friday night in the Grill Room\, with the incomparable sounds of legendary Ron English.
URL:https://www.theoldclub.com/event/ron-english-quintet/
ATTACH;FMTTYPE=image/jpeg:https://www.theoldclub.com/wp-content/uploads/2022/02/RonEnglish-Quintet.jpg
END:VEVENT
END:VCALENDAR